BEGIN:VCALENDAR
VERSION:2.0
PRODID:-//Wheelhouse - ECPv6.15.13//NONSGML v1.0//EN
CALSCALE:GREGORIAN
METHOD:PUBLISH
X-ORIGINAL-URL:https://wheelhousecycle.ca
X-WR-CALDESC:Events for Wheelhouse
REFRESH-INTERVAL;VALUE=DURATION:PT1H
X-Robots-Tag:noindex
X-PUBLISHED-TTL:PT1H
BEGIN:VTIMEZONE
TZID:America/Toronto
BEGIN:DAYLIGHT
TZOFFSETFROM:-0500
TZOFFSETTO:-0400
TZNAME:EDT
DTSTART:20240310T070000
END:DAYLIGHT
BEGIN:STANDARD
TZOFFSETFROM:-0400
TZOFFSETTO:-0500
TZNAME:EST
DTSTART:20241103T060000
END:STANDARD
BEGIN:DAYLIGHT
TZOFFSETFROM:-0500
TZOFFSETTO:-0400
TZNAME:EDT
DTSTART:20250309T070000
END:DAYLIGHT
BEGIN:STANDARD
TZOFFSETFROM:-0400
TZOFFSETTO:-0500
TZNAME:EST
DTSTART:20251102T060000
END:STANDARD
BEGIN:DAYLIGHT
TZOFFSETFROM:-0500
TZOFFSETTO:-0400
TZNAME:EDT
DTSTART:20260308T070000
END:DAYLIGHT
BEGIN:STANDARD
TZOFFSETFROM:-0400
TZOFFSETTO:-0500
TZNAME:EST
DTSTART:20261101T060000
END:STANDARD
END:VTIMEZONE
BEGIN:VEVENT
DTSTART;VALUE=DATE:20250926
DTEND;VALUE=DATE:20251006
DTSTAMP:20260424T223307
CREATED:20250616T144829Z
LAST-MODIFIED:20250820T135836Z
UID:989484-1758844800-1759708799@wheelhousecycle.ca
SUMMARY:WH Spin Instructor Training
DESCRIPTION:This Fall\, join Amanda Baril and members of the Wheelhouse Instructor Team for Wheelhouse Cycle’s Level 1 Spin Instructor Training. This course is a deep dive into the foundations of becoming a successful spin instructor. Expect to learn about beat-based spin class techniques\, effective coaching strategies\, playlist composition & class development\, formatting & choreography\, cueing & musicality\, ride form & fitness. \n\n\nLogistics: \n\n20 hours total In-studio & theory \nWorkbook + Manual \n20 class pass to Wheelhouse Cycle \n  \nDates/times: \nFri\, Sep 26: 7:30-9:30 pm \nSat\, Sep 27: 12-4 pm \nSun\, Sep 28: 12-4 pm \nFri\, Oct 3: 730-930pm \nSat\, Oct 4: 12-4 pm \nSun\, Oct 5: 12-4 pm \n  \nLocation: Wheelhouse Cycle Warehouse. 145 Spruce St. W \n\n\nWondering if this is for you? \n\nWhether you dream of teaching at Wheelhouse Cycle\, want to learn more about teaching beat-based spin classes for other boutique spin studios and/or larger gym facilities\, dream of owning your own studio one day\, or just LOVE spin and want to be a part of our growing community\, this training is for you! \n\n\nInvestment: \n\nEarly bird $1099. After September 1st the cost will be $1299 *Spots are limited so book early to guarantee yours. **Payment plans are available. Please email amandab@wheelhousecycle.ca for more info. Please note: Course fees\, including deposits\, are non-refundable. \n\n\nQuestions? Email amandab@wheelhousecycle.ca \n\n 
URL:https://wheelhousecycle.ca/event/wh-spin-instructor-training/
LOCATION:The WareHouse\, 145 Spruce St\, Ottawa\, Ontario\, K1R 6T1\, Canada
ORGANIZER;CN="Wheelhouse Cycle":MAILTO:ride@wheelhousecycle.ca
END:VEVENT
END:VCALENDAR